BEGIN:VCALENDAR
VERSION:2.0
PRODID:icalendar-ruby
CALSCALE:GREGORIAN
BEGIN:VEVENT
DTSTAMP:20181218T044014Z
UID:2d75f608-46ac-4b5d-b41b-1b39b82ee2c3
DTSTART;VALUE=DATE:20181219
DESCRIPTION:Property ID# 439960\, Locatoin: Harcourts Auction Room\, 1 Thir
 d Avenue\, Tauranga
SUMMARY:Auction for 476A Fraser Street 
END:VEVENT
END:VCALENDAR
