BEGIN:VCALENDAR
VERSION:2.0
PRODID:icalendar-ruby
CALSCALE:GREGORIAN
BEGIN:VEVENT
DTSTAMP:20181218T044111Z
UID:6e20c640-ae3d-49d9-86d1-d7d16f687087
DTSTART;VALUE=DATE:20190212
DESCRIPTION:Property ID# 441373
SUMMARY:Auction for 165 Spencer Rd
END:VEVENT
END:VCALENDAR
