BEGIN:VCALENDAR
VERSION:2.0
PRODID:icalendar-ruby
CALSCALE:GREGORIAN
BEGIN:VEVENT
DTSTAMP:20181218T044209Z
UID:9900d11c-095f-41d0-ac42-60d040a7dcb8
DTSTART;VALUE=DATE:20190119
DESCRIPTION:Property ID# 441486\, Locatoin: On-site (unless sold prior)\, T
 ime: 2pm
SUMMARY:Auction for 5 Muriwai Drive
END:VEVENT
END:VCALENDAR
