BEGIN:VCALENDAR
VERSION:2.0
PRODID:icalendar-ruby
CALSCALE:GREGORIAN
BEGIN:VEVENT
DTSTAMP:20181218T044225Z
UID:41a0d500-518e-46af-820c-158b21bf8722
DTSTART;VALUE=DATE:20190131
DESCRIPTION:Property ID# 441498\, Locatoin: Harcourts Auction Room\, 1 Thir
 d Ave\, Tauranga\, Time: 1.00pm unless sold prior
SUMMARY:Auction for 289 Levers Road
END:VEVENT
END:VCALENDAR
