BEGIN:VCALENDAR
VERSION:2.0
PRODID:icalendar-ruby
CALSCALE:GREGORIAN
BEGIN:VEVENT
DTSTAMP:20181218T044233Z
UID:9bb32912-9d10-474e-ba74-d329f1cf2dbf
DTSTART;VALUE=DATE:20190123
DESCRIPTION:Property ID# 441500\, Locatoin: Tremains\, Tauranga (Unless SOL
 D prior)\, Time: 1PM
SUMMARY:Auction for 26 Tupelo Place
END:VEVENT
END:VCALENDAR
