BEGIN:VCALENDAR
VERSION:2.0
PRODID:icalendar-ruby
CALSCALE:GREGORIAN
BEGIN:VEVENT
DTSTAMP:20181218T044203Z
UID:c011845b-78ef-4014-92a3-231bf6b5e7a1
DTSTART;VALUE=DATE:20190218
DESCRIPTION:Property ID# 441757\, Locatoin: Bethlehem\, Time: 5:00pm
SUMMARY:Auction for 59F Western Ave
END:VEVENT
END:VCALENDAR
