BEGIN:VCALENDAR
VERSION:2.0
PRODID:icalendar-ruby
CALSCALE:GREGORIAN
BEGIN:VEVENT
DTSTAMP:20181218T044142Z
UID:44d7b7c0-8ff5-4a18-ba21-01c674840ec0
DTSTART;VALUE=DATE:20190130
DESCRIPTION:Property ID# 441859\, Locatoin: 247 Cameron Road\, Tauranga\, T
 ime: 1.00pm (unless sold prior)
SUMMARY:Auction for 37 Glenmonarch Pl
END:VEVENT
END:VCALENDAR
