BEGIN:VCALENDAR
VERSION:2.0
PRODID:icalendar-ruby
CALSCALE:GREGORIAN
BEGIN:VEVENT
DTSTAMP:20181218T044038Z
UID:672b082e-40b0-436d-9961-53e916fe5771
DTSTART;VALUE=DATE:20190213
DESCRIPTION:Property ID# 441969\, Locatoin: 247 Cameron Road\, Tauranga - B
 ayley's Auction rooms\, Time: 1pm
SUMMARY:Auction for 18 Beach Grove
END:VEVENT
END:VCALENDAR
