BEGIN:VCALENDAR
VERSION:2.0
PRODID:icalendar-ruby
CALSCALE:GREGORIAN
BEGIN:VEVENT
DTSTAMP:20191216T232754Z
UID:8ffa1a11-d11f-450f-9d88-6926d7bd1c51
DTSTART;VALUE=DATE:20200312
DESCRIPTION:Property ID# 466941\, Locatoin: In Rooms (unless sold prior) Le
 vel 1\, 51 The Strand\, Tauranga\, Time: 1:00PM
SUMMARY:Auction for 36 Goodall Road
END:VEVENT
END:VCALENDAR
