BEGIN:VCALENDAR
VERSION:2.0
PRODID:icalendar-ruby
CALSCALE:GREGORIAN
BEGIN:VEVENT
DTSTAMP:20191216T232739Z
UID:322abf31-2b30-4fa5-8664-78fcfb2f35d8
DTSTART;VALUE=DATE:20191219
DESCRIPTION:Property ID# 467290\, Locatoin: In Rooms\, Time: 1:00PM
SUMMARY:Auction for 160b Levers Road
END:VEVENT
END:VCALENDAR
