BEGIN:VCALENDAR
VERSION:2.0
PRODID:icalendar-ruby
CALSCALE:GREGORIAN
BEGIN:VEVENT
DTSTAMP:20191216T232743Z
UID:797f3952-7798-4521-9a26-d5085c2fcda1
DTSTART;VALUE=DATE:20200115
DESCRIPTION:Property ID# 467291\, Locatoin: Ray White offices\, Time: 1:00P
 M
SUMMARY:Auction for 11 Commons Avenue 
END:VEVENT
END:VCALENDAR
