BEGIN:VCALENDAR
VERSION:2.0
PRODID:icalendar-ruby
CALSCALE:GREGORIAN
BEGIN:VEVENT
DTSTAMP:20191216T232800Z
UID:9fe5f474-72f5-4b21-b324-402d369be1cb
DTSTART;VALUE=DATE:20200312
DESCRIPTION:Property ID# 467300\, Locatoin: In rooms (unless sold prior) Le
 vel 1\, 51 The Strand\, Tauranga\, Time: 1:00PM
SUMMARY:Auction for 63 Snodgrass Rd
END:VEVENT
END:VCALENDAR
