BEGIN:VCALENDAR
VERSION:2.0
PRODID:icalendar-ruby
CALSCALE:GREGORIAN
BEGIN:VEVENT
DTSTAMP:20191216T232853Z
UID:309e54e8-2fcc-40d7-95d5-fedba3be0d7f
DTSTART;VALUE=DATE:20200130
DESCRIPTION:Property ID# 469650\, Locatoin: at 1:00pm (unless sold prior) I
 n Rooms\, 1 Third Avenue\, Tauranga\, Time: 12:00PM
SUMMARY:Auction for 88 Oceanview Road
END:VEVENT
END:VCALENDAR
