BEGIN:VCALENDAR
VERSION:2.0
PRODID:icalendar-ruby
CALSCALE:GREGORIAN
BEGIN:VEVENT
DTSTAMP:20181218T043937Z
UID:c97b5464-dd18-49ef-b232-86349ead8535
DTSTART;TZID=Pacific/Auckland:20181216T143000
DTEND;TZID=Pacific/Auckland:20181216T150000
DESCRIPTION:Property ID# 440948
SUMMARY:Openhome for 43 Malta Crescent
END:VEVENT
END:VCALENDAR
