BEGIN:VCALENDAR
VERSION:2.0
PRODID:icalendar-ruby
CALSCALE:GREGORIAN
BEGIN:VEVENT
DTSTAMP:20181218T043955Z
UID:badec6e5-3d19-4998-b79a-7edfdb5a99be
DTSTART;TZID=Pacific/Auckland:20181216T130000
DTEND;TZID=Pacific/Auckland:20181216T133000
DESCRIPTION:Property ID# 440956
SUMMARY:Openhome for 2 Botanical Road
END:VEVENT
END:VCALENDAR
