BEGIN:VCALENDAR
VERSION:2.0
PRODID:icalendar-ruby
CALSCALE:GREGORIAN
BEGIN:VEVENT
DTSTAMP:20181218T044140Z
UID:11b41af7-0458-4eb4-be37-4ece7bfe618b
DTSTART;TZID=Pacific/Auckland:20190106T120000
DTEND;TZID=Pacific/Auckland:20190106T123000
DESCRIPTION:Property ID# 441859
SUMMARY:Openhome for 37 Glenmonarch Pl
END:VEVENT
END:VCALENDAR
