BEGIN:VCALENDAR
VERSION:2.0
PRODID:icalendar-ruby
CALSCALE:GREGORIAN
BEGIN:VEVENT
DTSTAMP:20181218T044156Z
UID:b4cc53fc-ac6b-4621-b127-5e0f1388c01a
DTSTART;TZID=Pacific/Auckland:20181222T130000
DTEND;TZID=Pacific/Auckland:20181222T134500
DESCRIPTION:Property ID# 441757
SUMMARY:Openhome for 59F Western Ave
END:VEVENT
END:VCALENDAR
