BEGIN:VCALENDAR
VERSION:2.0
PRODID:icalendar-ruby
CALSCALE:GREGORIAN
BEGIN:VEVENT
DTSTAMP:20181218T044119Z
UID:9913b4f8-c18e-418b-bc7a-d0454fc4bf61
DTSTART;TZID=Pacific/Auckland:20190113T110000
DTEND;TZID=Pacific/Auckland:20190113T114500
DESCRIPTION:Property ID# 441765
SUMMARY:Openhome for 804 Pakihi Road
END:VEVENT
END:VCALENDAR
