BEGIN:VCALENDAR
VERSION:2.0
PRODID:icalendar-ruby
CALSCALE:GREGORIAN
BEGIN:VEVENT
DTSTAMP:20260424T211204Z
UID:9f88c6fa-4075-4cb1-ac7a-ab52f6333ad2
DTSTART;VALUE=DATE:20201126
DESCRIPTION:Property ID# 494948\, Locatoin: ANZ House\, 247 Cameron Road\, 
 Tauranga\, Time: 1:00PM
SUMMARY:Auction for 
END:VEVENT
END:VCALENDAR
