BEGIN:VCALENDAR
VERSION:2.0
PRODID:icalendar-ruby
CALSCALE:GREGORIAN
BEGIN:VEVENT
DTSTAMP:20260424T224502Z
UID:358a16ca-d633-4f0f-a959-9a4d47ba66c0
DTSTART;VALUE=DATE:20210415
DESCRIPTION:Property ID# 504977\, Locatoin: ANZ House\, 247 Cameron Road\, 
 Tauranga\, Time: 1:00PM
SUMMARY:Auction for 
END:VEVENT
END:VCALENDAR
