BEGIN:VCALENDAR
VERSION:2.0
PRODID:icalendar-ruby
CALSCALE:GREGORIAN
BEGIN:VEVENT
DTSTAMP:20260423T100734Z
UID:f35763a4-aa0f-4bbf-ad48-927c2631cb61
DTSTART;VALUE=DATE:20210505
DESCRIPTION:Property ID# 505388\, Locatoin: Ray White Auction Rooms. 5/ 9 D
 omain Road\, Papamoa.\, Time: 1:00PM
SUMMARY:Auction for 
END:VEVENT
END:VCALENDAR
