BEGIN:VCALENDAR
VERSION:2.0
PRODID:icalendar-ruby
CALSCALE:GREGORIAN
BEGIN:VEVENT
DTSTAMP:20260424T211522Z
UID:c45562cb-cca3-4c4f-a807-9f8c31435a67
DTSTART;VALUE=DATE:20210617
DESCRIPTION:Property ID# 510059\, Locatoin: Ray White Tauranga 232 Devonpor
 t Road Tauranga \, Time: 11:00AM
SUMMARY:Auction for 
END:VEVENT
END:VCALENDAR
