BEGIN:VCALENDAR
VERSION:2.0
PRODID:icalendar-ruby
CALSCALE:GREGORIAN
BEGIN:VEVENT
DTSTAMP:20260424T084403Z
UID:59fe59be-53bf-4753-a9c6-7ca145458994
DTSTART;VALUE=DATE:20210805
DESCRIPTION:Property ID# 510833\, Locatoin: 247 Cameron Road\, Tauranga\, T
 ime: 1:00PM
SUMMARY:Auction for 
END:VEVENT
END:VCALENDAR
