BEGIN:VCALENDAR
VERSION:2.0
PRODID:icalendar-ruby
CALSCALE:GREGORIAN
BEGIN:VEVENT
DTSTAMP:20260423T095213Z
UID:e949838c-26d6-4ccf-b098-7d9e70ceb8c8
DTSTART;VALUE=DATE:20210622
DESCRIPTION:Property ID# 510976\, Time: 4:00PM
SUMMARY:Auction for 
END:VEVENT
END:VCALENDAR
