BEGIN:VCALENDAR
VERSION:2.0
PRODID:icalendar-ruby
CALSCALE:GREGORIAN
BEGIN:VEVENT
DTSTAMP:20260420T112321Z
UID:f4c89a0f-4466-4f4e-9808-fbba59bd8a13
DTSTART;VALUE=DATE:20210827
DESCRIPTION:Property ID# 515534\, Time: 4:00PM
SUMMARY:Auction for 
END:VEVENT
END:VCALENDAR
