BEGIN:VCALENDAR
VERSION:2.0
PRODID:icalendar-ruby
CALSCALE:GREGORIAN
BEGIN:VEVENT
DTSTAMP:20260423T140858Z
UID:6ffb1d82-a532-4bcd-a045-056205a02872
DTSTART;VALUE=DATE:20210930
DESCRIPTION:Property ID# 516761\, Locatoin: 247 Cameron Road\, Tauranga\, T
 ime: 1:00PM
SUMMARY:Auction for 
END:VEVENT
END:VCALENDAR
