BEGIN:VCALENDAR
VERSION:2.0
PRODID:icalendar-ruby
CALSCALE:GREGORIAN
BEGIN:VEVENT
DTSTAMP:20260420T100715Z
UID:01d426cf-fcb8-4901-89cd-9cbc73d24053
DTSTART;VALUE=DATE:20211124
DESCRIPTION:Property ID# 520070\, Locatoin: 247 Cameron Road\, Tauranga (un
 less sold prior)\, Time: 1:00PM
SUMMARY:Auction for 
END:VEVENT
END:VCALENDAR
