BEGIN:VCALENDAR
VERSION:2.0
PRODID:icalendar-ruby
CALSCALE:GREGORIAN
BEGIN:VEVENT
DTSTAMP:20260420T122609Z
UID:16cc9177-ee1d-495b-b216-67ff7b24e3a9
DTSTART;VALUE=DATE:20211125
DESCRIPTION:Property ID# 520743\, Locatoin: Harcourts Auction Rooms\, 1 Thi
 rd Avenue\, Tauranga\, Unless Sold Prior\, Time: 11:00AM
SUMMARY:Auction for 
END:VEVENT
END:VCALENDAR
