BEGIN:VCALENDAR
VERSION:2.0
PRODID:icalendar-ruby
CALSCALE:GREGORIAN
BEGIN:VEVENT
DTSTAMP:20260424T211700Z
UID:6e5d78f1-bac8-4b8c-831f-2446c7937343
DTSTART;VALUE=DATE:20211202
DESCRIPTION:Property ID# 521278\, Locatoin: Ray White Tauranga 232 Devonpor
 t Road Tauranga \, Time: 11:00AM
SUMMARY:Auction for 
END:VEVENT
END:VCALENDAR
