BEGIN:VCALENDAR
VERSION:2.0
PRODID:icalendar-ruby
CALSCALE:GREGORIAN
BEGIN:VEVENT
DTSTAMP:20260422T092707Z
UID:58fe155e-488f-4440-9a90-f37197966a6c
DTSTART;VALUE=DATE:20211208
DESCRIPTION:Property ID# 522077\, Locatoin: 247 Cameron Road\, Tauranga (un
 less sold prior)\, Time: 1:00PM
SUMMARY:Auction for 
END:VEVENT
END:VCALENDAR
