BEGIN:VCALENDAR
VERSION:2.0
PRODID:icalendar-ruby
CALSCALE:GREGORIAN
BEGIN:VEVENT
DTSTAMP:20260422T153737Z
UID:f588901e-a060-4294-a855-c10417ecd701
DTSTART;VALUE=DATE:20221006
DESCRIPTION:Property ID# 543377\, Locatoin: 247 Cameron Road\, Time: 1:00PM
SUMMARY:Auction for 
END:VEVENT
END:VCALENDAR
