BEGIN:VCALENDAR
VERSION:2.0
PRODID:icalendar-ruby
CALSCALE:GREGORIAN
BEGIN:VEVENT
DTSTAMP:20260419T185051Z
UID:6e44722d-04f3-421e-9532-cdbcd032140a
DTSTART;VALUE=DATE:20221102
DESCRIPTION:Property ID# 544067\, Locatoin: 247 Cameron Road\, Tauranga (un
 less sold prior)\, Time: 1:00PM
SUMMARY:Auction for 
END:VEVENT
END:VCALENDAR
