BEGIN:VCALENDAR
VERSION:2.0
PRODID:icalendar-ruby
CALSCALE:GREGORIAN
BEGIN:VEVENT
DTSTAMP:20260423T111308Z
UID:c21f1d17-6e1d-4a61-b695-0bc12bc14b0c
DTSTART;VALUE=DATE:20230518
DESCRIPTION:Property ID# 555754\, Locatoin: Auction Rooms\, 247 Cameron Roa
 d\, Tauranga. Unless sold prior\, Time: 1:00PM
SUMMARY:Auction for 
END:VEVENT
END:VCALENDAR
