BEGIN:VCALENDAR
VERSION:2.0
PRODID:icalendar-ruby
CALSCALE:GREGORIAN
BEGIN:VEVENT
DTSTAMP:20260423T140528Z
UID:44e7c6a1-2a83-4e77-9b00-678bf7b3cd1b
DTSTART;VALUE=DATE:20230727
DESCRIPTION:Property ID# 559526\, Locatoin: Auction Rooms\, 247 Cameron Roa
 d\, Tauranga. Unless sold prior\, Time: 1:00PM
SUMMARY:Auction for 
END:VEVENT
END:VCALENDAR
