BEGIN:VCALENDAR
VERSION:2.0
PRODID:icalendar-ruby
CALSCALE:GREGORIAN
BEGIN:VEVENT
DTSTAMP:20260420T100606Z
UID:1332336a-c24d-4c61-a5b2-b79eece524bb
DTSTART;VALUE=DATE:20231103
DESCRIPTION:Property ID# 563887\, Time: 12:00PM
SUMMARY:Auction for 
END:VEVENT
END:VCALENDAR
