BEGIN:VCALENDAR
VERSION:2.0
PRODID:icalendar-ruby
CALSCALE:GREGORIAN
BEGIN:VEVENT
DTSTAMP:20260420T095738Z
UID:8a4ba695-6f91-4f11-b03b-a9e7fe625dc9
DTSTART;VALUE=DATE:20260214
DESCRIPTION:Property ID# 564979\, Locatoin: Ray White Ohope - 19 Pohutukawa
  Ave\, Ohope (unless sold prior)\, Time: 12:00PM
SUMMARY:Auction for 
END:VEVENT
END:VCALENDAR
