BEGIN:VCALENDAR
VERSION:2.0
PRODID:icalendar-ruby
CALSCALE:GREGORIAN
BEGIN:VEVENT
DTSTAMP:20260423T030015Z
UID:3e13a3f3-fa61-4e06-a0dc-66c0aab7aa62
DTSTART;VALUE=DATE:20240515
DESCRIPTION:Property ID# 574662\, Locatoin: Ray White Greerton Auction Room
 \, 1334 Cameron Road\, Greerton (unless sold prior)\, Time: 1:00PM
SUMMARY:Auction for 
END:VEVENT
END:VCALENDAR
