BEGIN:VCALENDAR
VERSION:2.0
PRODID:icalendar-ruby
CALSCALE:GREGORIAN
BEGIN:VEVENT
DTSTAMP:20260423T193641Z
UID:b927792d-9a6f-4997-b593-57841365f3a6
DTSTART;VALUE=DATE:20240516
DESCRIPTION:Property ID# 574780\, Locatoin: 247 Cameron Road\, Tauranga\, T
 ime: 1:00PM
SUMMARY:Auction for 
END:VEVENT
END:VCALENDAR
