BEGIN:VCALENDAR
VERSION:2.0
PRODID:icalendar-ruby
CALSCALE:GREGORIAN
BEGIN:VEVENT
DTSTAMP:20260421T082401Z
UID:2c7a44e1-545d-4a3b-a2b1-0d91fe814547
DTSTART;VALUE=DATE:20240523
DESCRIPTION:Property ID# 575187\, Time: 12:00PM
SUMMARY:Auction for 
END:VEVENT
END:VCALENDAR
