BEGIN:VCALENDAR
VERSION:2.0
PRODID:icalendar-ruby
CALSCALE:GREGORIAN
BEGIN:VEVENT
DTSTAMP:20260422T082903Z
UID:59ba68ee-b0a7-4b04-9afb-2cbad12369c5
DTSTART;VALUE=DATE:20240605
DESCRIPTION:Property ID# 576075\, Locatoin: Harcourts Auction Rooms\, 1 Thi
 rd Avenue\, Tauranga  (Unless Sold Prior)\, Time: 12:30PM
SUMMARY:Auction for 
END:VEVENT
END:VCALENDAR
