BEGIN:VCALENDAR
VERSION:2.0
PRODID:icalendar-ruby
CALSCALE:GREGORIAN
BEGIN:VEVENT
DTSTAMP:20260420T082504Z
UID:ac8b9f01-c40f-4b31-bf67-6f9e7efef785
DTSTART;VALUE=DATE:20240613
DESCRIPTION:Property ID# 576078\, Locatoin: Auction Rooms\, 247 Cameron Rd\
 , Time: 1:00PM
SUMMARY:Auction for 
END:VEVENT
END:VCALENDAR
