BEGIN:VCALENDAR
VERSION:2.0
PRODID:icalendar-ruby
CALSCALE:GREGORIAN
BEGIN:VEVENT
DTSTAMP:20260421T134933Z
UID:05a293c7-539d-4186-9160-56052d53ff3d
DTSTART;VALUE=DATE:20240718
DESCRIPTION:Property ID# 577703\, Time: 12:00PM
SUMMARY:Auction for 
END:VEVENT
END:VCALENDAR
