BEGIN:VCALENDAR
VERSION:2.0
PRODID:icalendar-ruby
CALSCALE:GREGORIAN
BEGIN:VEVENT
DTSTAMP:20260423T193325Z
UID:46240927-2a2e-467f-82b4-3eaa1bac4061
DTSTART;VALUE=DATE:20241003
DESCRIPTION:Property ID# 580227\, Locatoin: Auction Rooms\, 247 Cameron Rd\
 , Time: 1:00PM
SUMMARY:Auction for 
END:VEVENT
END:VCALENDAR
