BEGIN:VCALENDAR
VERSION:2.0
PRODID:icalendar-ruby
CALSCALE:GREGORIAN
BEGIN:VEVENT
DTSTAMP:20260420T112504Z
UID:51505b4c-c219-485e-8fc3-8e10e3b92bea
DTSTART;VALUE=DATE:20241031
DESCRIPTION:Property ID# 581539\, Locatoin: Auction Rooms\, 247 Cameron Roa
 d\, Tauranga. Unless sold prior\, Time: 1:00PM
SUMMARY:Auction for 
END:VEVENT
END:VCALENDAR
