BEGIN:VCALENDAR
VERSION:2.0
PRODID:icalendar-ruby
CALSCALE:GREGORIAN
BEGIN:VEVENT
DTSTAMP:20260423T164128Z
UID:c4481e9f-1b94-40c2-846c-8e90e44e051d
DTSTART;VALUE=DATE:20241205
DESCRIPTION:Property ID# 584049\, Time: 1:00PM
SUMMARY:Auction for 
END:VEVENT
END:VCALENDAR
