BEGIN:VCALENDAR
VERSION:2.0
PRODID:icalendar-ruby
CALSCALE:GREGORIAN
BEGIN:VEVENT
DTSTAMP:20260420T095731Z
UID:2c6d14cb-32aa-4e98-8ea0-9b33cbc00541
DTSTART;VALUE=DATE:20250514
DESCRIPTION:Property ID# 591583\, Locatoin: Auction Rooms\, 247 Cameron Roa
 d\, Tauranga. Unless sold prior\, Time: 1:00PM
SUMMARY:Auction for 
END:VEVENT
END:VCALENDAR
