BEGIN:VCALENDAR
VERSION:2.0
PRODID:icalendar-ruby
CALSCALE:GREGORIAN
BEGIN:VEVENT
DTSTAMP:20260425T104036Z
UID:cafc6cfa-0cad-4b45-b9e3-44fd9f50913d
DTSTART;VALUE=DATE:20250604
DESCRIPTION:Property ID# 592438\, Locatoin: Ray White Greerton (unless sold
  prior)\, Time: 1:00PM
SUMMARY:Auction for 
END:VEVENT
END:VCALENDAR
