BEGIN:VCALENDAR
VERSION:2.0
PRODID:icalendar-ruby
CALSCALE:GREGORIAN
BEGIN:VEVENT
DTSTAMP:20260420T131506Z
UID:a4c8fb2c-e64f-4fba-946a-cf1c3b0a2fbc
DTSTART;VALUE=DATE:20250703
DESCRIPTION:Property ID# 592502\, Locatoin: Ray White Ohope - 19 Pohutukawa
  Ave\, Ohope (unless sold prior)\, Time: 12:00PM
SUMMARY:Auction for 
END:VEVENT
END:VCALENDAR
