BEGIN:VCALENDAR
VERSION:2.0
PRODID:icalendar-ruby
CALSCALE:GREGORIAN
BEGIN:VEVENT
DTSTAMP:20260422T090000Z
UID:294e7266-ef49-45fd-bdd9-628e729908fb
DTSTART;VALUE=DATE:20250625
DESCRIPTION:Property ID# 593589\, Locatoin: Harcourts Auction Room\, 1 Thir
 d Avenue\, Tauranga\, Time: 12:00PM
SUMMARY:Auction for 
END:VEVENT
END:VCALENDAR
