BEGIN:VCALENDAR
VERSION:2.0
PRODID:icalendar-ruby
CALSCALE:GREGORIAN
BEGIN:VEVENT
DTSTAMP:20260423T164055Z
UID:31c997dc-2ee4-4c4f-9c5f-57719436beb5
DTSTART;VALUE=DATE:20250729
DESCRIPTION:Property ID# 594896\, Time: 3:00PM
SUMMARY:Auction for 
END:VEVENT
END:VCALENDAR
